BEGIN:VCALENDAR
VERSION:2.0
PRODID:-//eventon.com NONSGML v1.0//EN
CALSCALE:GREGORIAN
METHOD:PUBLISH
BEGIN:VEVENT
UID:69eb954db272a
DTSTAMP:20260424T160741Z
DTSTART:20251103T070000Z
DTEND:20251103T200000Z
LOCATION:French Ministry for the Economy and Finance PMF Conference Center\,  139\,  rue de Bercy 75012 Paris - France
SUMMARY:Inaugural Day 2025
DESCRIPTION:Inaugural Day 2025\nhttps://www.parisinfraweek.com/events/inaug
 ural-day-2024-copy/
URL:https://www.parisinfraweek.com/events/inaugural-day-2024-copy/
END:VEVENT
END:VCALENDAR